BEGIN:VCALENDAR
VERSION:2.0
PRODID:-//wp-events-plugin.com//7.2.3.1//EN
TZID:America/New_York
X-WR-TIMEZONE:America/New_York
BEGIN:VEVENT
UID:10233@goriverwalk.com
DTSTART;TZID=America/New_York:20201101T150000
DTEND;TZID=America/New_York:20201101T180000
DTSTAMP:20201012T141503Z
URL:https://www.goriverwalk.com/greater-fort-lauderdale-events/afrikin-202
 0-a-new-way-of-being-broadcast
SUMMARY:AFRIKIN 2020: A New Way of Being Broadcast
DESCRIPTION:Featuring leaders from Africa
ATTACH;FMTTYPE=image/jpeg:https://www.goriverwalk.com/wp-content/uploads/2
 020/10/afrikin.jpg
CATEGORIES:Cultural
END:VEVENT
BEGIN:VTIMEZONE
TZID:America/New_York
X-LIC-LOCATION:America/New_York
BEGIN:STANDARD
DTSTART:20201101T010000
TZOFFSETFROM:-0400
TZOFFSETTO:-0500
TZNAME:EST
END:STANDARD
END:VTIMEZONE
END:VCALENDAR