BEGIN:VCALENDAR
VERSION:2.0
PRODID:-//wp-events-plugin.com//7.2.3.1//EN
TZID:America/New_York
X-WR-TIMEZONE:America/New_York
BEGIN:VEVENT
UID:18530@goriverwalk.com
DTSTART;TZID=America/New_York:20240223T200000
DTEND;TZID=America/New_York:20240223T200000
DTSTAMP:20240118T182846Z
URL:https://www.goriverwalk.com/greater-fort-lauderdale-events/adrian-vand
 enberg-performing-vandenberg-whitesnake-classics
SUMMARY:Adrian Vandenberg – Performing Vandenberg & Whitesnake Classics
DESCRIPTION:Adrian will be performing Vandenberg & Whitesnake Classics
ATTACH;FMTTYPE=image/jpeg:https://www.goriverwalk.com/wp-content/uploads/2
 024/01/2-23-24-Vandenberg.jpg
CATEGORIES:Music
LOCATION:Lillian S. Wells Hall at The Parker\, 707 NE 8th Street\, Fort Lau
 derdale\, Florida\, 33304\, United States
X-APPLE-STRUCTURED-LOCATION;VALUE=URI;X-ADDRESS=707 NE 8th Street\, Fort La
 uderdale\, Florida\, 33304\, United States;X-APPLE-RADIUS=100;X-TITLE=Lill
 ian S. Wells Hall at The Parker:geo:0,0
END:VEVENT
BEGIN:VTIMEZONE
TZID:America/New_York
X-LIC-LOCATION:America/New_York
BEGIN:STANDARD
DTSTART:20231105T010000
TZOFFSETFROM:-0400
TZOFFSETTO:-0500
TZNAME:EST
END:STANDARD
END:VTIMEZONE
END:VCALENDAR