BEGIN:VCALENDAR
VERSION:2.0
PRODID:-//wp-events-plugin.com//7.2.3.1//EN
TZID:America/New_York
X-WR-TIMEZONE:America/New_York
BEGIN:VEVENT
UID:6969@goriverwalk.com
DTSTART;TZID=America/New_York:20190308T083000
DTEND;TZID=America/New_York:20190308T100000
DTSTAMP:20190221T151512Z
URL:https://www.goriverwalk.com/greater-fort-lauderdale-events/aaf-creativ
 e-zen
SUMMARY:AAF Creative Zen
DESCRIPTION:Featuring speaker Inês Martins
ATTACH;FMTTYPE=image/jpeg:https://www.goriverwalk.com/wp-content/uploads/2
 019/02/AAF_CreativeZen_march.png
CATEGORIES:Business
LOCATION:Design Center of the Americas (DCOTA)\, 1855 Griffin Road\, Dania 
 Beach\, Florida\, United States
GEO:26.059658;-80.161522
X-APPLE-STRUCTURED-LOCATION;VALUE=URI;X-ADDRESS=1855 Griffin Road\, Dania B
 each\, Florida\, United States;X-APPLE-RADIUS=100;X-TITLE=Design Center of
  the Americas (DCOTA):geo:26.059658,-80.161522
END:VEVENT
BEGIN:VTIMEZONE
TZID:America/New_York
X-LIC-LOCATION:America/New_York
BEGIN:STANDARD
DTSTART:20181104T010000
TZOFFSETFROM:-0400
TZOFFSETTO:-0500
TZNAME:EST
END:STANDARD
END:VTIMEZONE
END:VCALENDAR