BEGIN:VCALENDAR
VERSION:2.0
PRODID:-//wp-events-plugin.com//7.2.3.1//EN
TZID:America/New_York
X-WR-TIMEZONE:America/New_York
BEGIN:VEVENT
UID:6971@goriverwalk.com
DTSTART;TZID=America/New_York:20190302T120000
DTEND;TZID=America/New_York:20190302T140000
DTSTAMP:20190221T152751Z
URL:https://www.goriverwalk.com/greater-fort-lauderdale-events/a-sense-of-
 pride
SUMMARY:A Sense of Pride
DESCRIPTION:Creativity and Exploration
ATTACH;FMTTYPE=image/jpeg:https://www.goriverwalk.com/wp-content/uploads/2
 019/02/sense-of-pride.jpg
CATEGORIES:Art,Community
LOCATION:Broward College - North Regional Library\, 1100 Coconut Creek Blvd
 \, Coconut Creek\, Florida\, 33066\, United States
GEO:26.2420395;-80.17172540000001
X-APPLE-STRUCTURED-LOCATION;VALUE=URI;X-ADDRESS=1100 Coconut Creek Blvd\, C
 oconut Creek\, Florida\, 33066\, United States;X-APPLE-RADIUS=100;X-TITLE=
 Broward College - North Regional Library:geo:26.2420395,-80.17172540000001
END:VEVENT
BEGIN:VTIMEZONE
TZID:America/New_York
X-LIC-LOCATION:America/New_York
BEGIN:STANDARD
DTSTART:20181104T010000
TZOFFSETFROM:-0400
TZOFFSETTO:-0500
TZNAME:EST
END:STANDARD
END:VTIMEZONE
END:VCALENDAR