BEGIN:VCALENDAR
VERSION:2.0
PRODID:-//wp-events-plugin.com//7.2.3.1//EN
TZID:America/New_York
X-WR-TIMEZONE:America/New_York
BEGIN:VEVENT
UID:13816@goriverwalk.com
DTSTART;TZID=America/New_York:20220401T180000
DTEND;TZID=America/New_York:20220401T193000
DTSTAMP:20220309T164633Z
URL:https://www.goriverwalk.com/greater-fort-lauderdale-events/a-night-of-
 literary-feasts-2
SUMMARY:A Night of Literary Feasts
DESCRIPTION:Meet acclaimed authors
ATTACH;FMTTYPE=image/jpeg:https://www.goriverwalk.com/wp-content/uploads/2
 018/03/LiteraryFeast_Logo.jpg
CATEGORIES:Cocktail,Festival,Fundraiser
LOCATION:Bahia Mar Fort Lauderdale Beach\, 801 Seabreeze Boulevard\, Fort L
 auderdale\, Florida\, 33316\, United States
GEO:26.1112208;-80.10605190000001
X-APPLE-STRUCTURED-LOCATION;VALUE=URI;X-ADDRESS=801 Seabreeze Boulevard\, F
 ort Lauderdale\, Florida\, 33316\, United States;X-APPLE-RADIUS=100;X-TITL
 E=Bahia Mar Fort Lauderdale Beach:geo:26.1112208,-80.10605190000001
END:VEVENT
BEGIN:VTIMEZONE
TZID:America/New_York
X-LIC-LOCATION:America/New_York
BEGIN:DAYLIGHT
DTSTART:20220313T030000
TZOFFSETFROM:-0500
TZOFFSETTO:-0400
TZNAME:EDT
END:DAYLIGHT
END:VTIMEZONE
END:VCALENDAR