BEGIN:VCALENDAR
VERSION:2.0
PRODID:-//wp-events-plugin.com//7.2.3.1//EN
TZID:America/New_York
X-WR-TIMEZONE:America/New_York
BEGIN:VEVENT
UID:18289@goriverwalk.com
DTSTART;TZID=America/New_York:20231215T000000
DTEND;TZID=America/New_York:20231217T000000
DTSTAMP:20231211T152730Z
URL:https://www.goriverwalk.com/greater-fort-lauderdale-events/a-hip-hop-l
 ove-story
SUMMARY:The Happening: A Theatrical Mixtape\, Volume V - A Hip-Hop Love Sto
 ry
DESCRIPTION:A journey of beats\, rhymes\, and life
ATTACH;FMTTYPE=image/jpeg:https://www.goriverwalk.com/wp-content/uploads/2
 023/12/A-Theatrical-Mix-Tape-Credit-Gregory-Reed-2.jpg
CATEGORIES:Art,Music
LOCATION:Broward Center for the Performing Arts\, 201 SW 5th Avenue\, Fort 
 Lauderdale\, FL\, 33312\, United States
GEO:26.1198743;-80.14926960000003
X-APPLE-STRUCTURED-LOCATION;VALUE=URI;X-ADDRESS=201 SW 5th Avenue\, Fort La
 uderdale\, FL\, 33312\, United States;X-APPLE-RADIUS=100;X-TITLE=Broward C
 enter for the Performing Arts:geo:26.1198743,-80.14926960000003
END:VEVENT
BEGIN:VTIMEZONE
TZID:America/New_York
X-LIC-LOCATION:America/New_York
BEGIN:STANDARD
DTSTART:20231105T010000
TZOFFSETFROM:-0400
TZOFFSETTO:-0500
TZNAME:EST
END:STANDARD
END:VTIMEZONE
END:VCALENDAR