BEGIN:VCALENDAR
VERSION:2.0
PRODID:-//wp-events-plugin.com//7.2.3.1//EN
TZID:America/New_York
X-WR-TIMEZONE:America/New_York
BEGIN:VEVENT
UID:10515@goriverwalk.com
DTSTART;TZID=America/New_York:20210112T183000
DTEND;TZID=America/New_York:20210112T193000
DTSTAMP:20201229T134647Z
URL:https://www.goriverwalk.com/greater-fort-lauderdale-events/a-conversat
 ion-with-nyala-moon
SUMMARY:A conversation with Nyala Moon
DESCRIPTION:Director\, writer\, and actress
ATTACH;FMTTYPE=image/jpeg:https://www.goriverwalk.com/wp-content/uploads/2
 020/12/Nyala-Moon-cropped.jpg
CATEGORIES:Community,Cultural
END:VEVENT
BEGIN:VTIMEZONE
TZID:America/New_York
X-LIC-LOCATION:America/New_York
BEGIN:STANDARD
DTSTART:20201101T010000
TZOFFSETFROM:-0400
TZOFFSETTO:-0500
TZNAME:EST
END:STANDARD
END:VTIMEZONE
END:VCALENDAR