BEGIN:VCALENDAR
VERSION:2.0
PRODID:-//wp-events-plugin.com//7.2.3.1//EN
TZID:America/New_York
X-WR-TIMEZONE:America/New_York
BEGIN:VEVENT
UID:18091@goriverwalk.com
DTSTART;TZID=America/New_York:20231202T000000
DTEND;TZID=America/New_York:20231203T000000
DTSTAMP:20231108T210719Z
URL:https://www.goriverwalk.com/greater-fort-lauderdale-events/a-ceremony-
 of-carols
SUMMARY:A Ceremony of Carols
DESCRIPTION:Saturday at 7 pm and Sunday at 4 pm
ATTACH;FMTTYPE=image/jpeg:https://www.goriverwalk.com/wp-content/uploads/2
 023/11/A-Ceremony-of-Carols-700x700-jpg-1.jpg
CATEGORIES:Holiday,Music
LOCATION:Pink Church\, 2331 NE 26th Ave\, Pompano Beach\, FL\, 33062\, Unit
 ed States
X-APPLE-STRUCTURED-LOCATION;VALUE=URI;X-ADDRESS=2331 NE 26th Ave\, Pompano 
 Beach\, FL\, 33062\, United States;X-APPLE-RADIUS=100;X-TITLE=Pink Church:
 geo:0,0
END:VEVENT
BEGIN:VTIMEZONE
TZID:America/New_York
X-LIC-LOCATION:America/New_York
BEGIN:STANDARD
DTSTART:20231105T010000
TZOFFSETFROM:-0400
TZOFFSETTO:-0500
TZNAME:EST
END:STANDARD
END:VTIMEZONE
END:VCALENDAR