BEGIN:VCALENDAR
VERSION:2.0
PRODID:-//wp-events-plugin.com//7.2.3.1//EN
TZID:America/New_York
X-WR-TIMEZONE:America/New_York
BEGIN:VEVENT
UID:8892@goriverwalk.com
DTSTART;TZID=America/New_York:20191207T173000
DTEND;TZID=America/New_York:20191208T203000
DTSTAMP:20191126T142353Z
URL:https://www.goriverwalk.com/greater-fort-lauderdale-events/__trashed-2
 4
SUMMARY:Bonnet House Museum & Gardens Holiday Magic Evening Experience
DESCRIPTION:See the house decorated at night!
ATTACH;FMTTYPE=image/jpeg:https://www.goriverwalk.com/wp-content/uploads/2
 019/11/DSC_4342-copy.jpg
CATEGORIES:Holiday
LOCATION:Bonnet House\, 900 North Birch Road\, Fort Lauderdale\, Florida\, 
 33304\, United States
X-APPLE-STRUCTURED-LOCATION;VALUE=URI;X-ADDRESS=900 North Birch Road\, Fort
  Lauderdale\, Florida\, 33304\, United States;X-APPLE-RADIUS=100;X-TITLE=B
 onnet House:geo:0,0
END:VEVENT
BEGIN:VTIMEZONE
TZID:America/New_York
X-LIC-LOCATION:America/New_York
BEGIN:STANDARD
DTSTART:20191103T010000
TZOFFSETFROM:-0400
TZOFFSETTO:-0500
TZNAME:EST
END:STANDARD
END:VTIMEZONE
END:VCALENDAR