BEGIN:VCALENDAR
VERSION:2.0
PRODID:-//wp-events-plugin.com//7.2.3.1//EN
TZID:America/New_York
X-WR-TIMEZONE:America/New_York
BEGIN:VEVENT
UID:4228@goriverwalk.com
DTSTART;TZID=America/New_York:20180421T070000
DTEND;TZID=America/New_York:20180421T120000
DTSTAMP:20180212T213613Z
URL:https://www.goriverwalk.com/greater-fort-lauderdale-events/9th-annual-
 covenant-house-5k-on-a1a
SUMMARY:9th Annual Covenant House 5k on A1A
DESCRIPTION:Raising funds to help homeless youth.
ATTACH;FMTTYPE=image/jpeg:https://www.goriverwalk.com/wp-content/uploads/2
 018/02/5konA1A.jpg
CATEGORIES:Community,Fundraiser
LOCATION:The World Famous Parrot Lounge\, 911 Sunrise Lane \, Fort Lauderda
 le\, Florida\, 33304\, United States
GEO:26.137182;-80.1039844
X-APPLE-STRUCTURED-LOCATION;VALUE=URI;X-ADDRESS=911 Sunrise Lane \, Fort La
 uderdale\, Florida\, 33304\, United States;X-APPLE-RADIUS=100;X-TITLE=The 
 World Famous Parrot Lounge:geo:26.137182,-80.1039844
END:VEVENT
BEGIN:VTIMEZONE
TZID:America/New_York
X-LIC-LOCATION:America/New_York
BEGIN:DAYLIGHT
DTSTART:20180311T030000
TZOFFSETFROM:-0500
TZOFFSETTO:-0400
TZNAME:EDT
END:DAYLIGHT
END:VTIMEZONE
END:VCALENDAR