BEGIN:VCALENDAR
VERSION:2.0
PRODID:-//wp-events-plugin.com//7.2.3.1//EN
TZID:America/New_York
X-WR-TIMEZONE:America/New_York
BEGIN:VEVENT
UID:18578@goriverwalk.com
DTSTART;TZID=America/New_York:20240514T080000
DTEND;TZID=America/New_York:20240514T170000
DTSTAMP:20240308T153011Z
URL:https://www.goriverwalk.com/greater-fort-lauderdale-events/9th-annual-
 behavioral-health-conference
SUMMARY:9th Annual Behavioral Health Conference: The Power of Prevention
DESCRIPTION:Promoting community awareness and support of behavioral health 
 and substance use prevention
ATTACH;FMTTYPE=image/jpeg:https://www.goriverwalk.com/wp-content/uploads/2
 024/01/Commission_BHC2023_Save_The_Date.png
CATEGORIES:Community,Education
LOCATION:Broward Convention Center\, 1950 Eisenhower Blvd\, Ft. Lauderdale\
 , FL\, 33316\, United States
X-APPLE-STRUCTURED-LOCATION;VALUE=URI;X-ADDRESS=1950 Eisenhower Blvd\, Ft. 
 Lauderdale\, FL\, 33316\, United States;X-APPLE-RADIUS=100;X-TITLE=Broward
  Convention Center:geo:0,0
END:VEVENT
BEGIN:VTIMEZONE
TZID:America/New_York
X-LIC-LOCATION:America/New_York
BEGIN:DAYLIGHT
DTSTART:20240310T030000
TZOFFSETFROM:-0500
TZOFFSETTO:-0400
TZNAME:EDT
END:DAYLIGHT
END:VTIMEZONE
END:VCALENDAR