BEGIN:VCALENDAR
VERSION:2.0
PRODID:-//wp-events-plugin.com//7.2.3.1//EN
TZID:America/New_York
X-WR-TIMEZONE:America/New_York
BEGIN:VEVENT
UID:14998@goriverwalk.com
DTSTART;TZID=America/New_York:20220911T080000
DTEND;TZID=America/New_York:20220911T080000
DTSTAMP:20220907T191332Z
URL:https://www.goriverwalk.com/greater-fort-lauderdale-events/9-11-rememb
 rance-ceremony-2
SUMMARY:9/11 Remembrance Ceremony
DESCRIPTION:Never Forget
ATTACH;FMTTYPE=image/jpeg:https://www.goriverwalk.com/wp-content/uploads/2
 022/09/City-9-11-Ceremony-scaled-e1662577924797.jpg
CATEGORIES:Community,Education
LOCATION:Fort Lauderdale Fire and Safety Museum\, 1022 West Las Olas Boulev
 ard\, Fort Lauderdale \, Florida\, 33316\, United States
GEO:26.1184611;-80.1557454
X-APPLE-STRUCTURED-LOCATION;VALUE=URI;X-ADDRESS=1022 West Las Olas Boulevar
 d\, Fort Lauderdale \, Florida\, 33316\, United States;X-APPLE-RADIUS=100;
 X-TITLE=Fort Lauderdale Fire and Safety Museum:geo:26.1184611,-80.1557454
END:VEVENT
BEGIN:VTIMEZONE
TZID:America/New_York
X-LIC-LOCATION:America/New_York
BEGIN:DAYLIGHT
DTSTART:20220313T030000
TZOFFSETFROM:-0500
TZOFFSETTO:-0400
TZNAME:EDT
END:DAYLIGHT
END:VTIMEZONE
END:VCALENDAR