BEGIN:VCALENDAR
VERSION:2.0
PRODID:-//wp-events-plugin.com//7.2.3.1//EN
TZID:America/New_York
X-WR-TIMEZONE:America/New_York
BEGIN:VEVENT
UID:11229@goriverwalk.com
DTSTART;TZID=America/New_York:20210603T090000
DTEND;TZID=America/New_York:20210603T103000
DTSTAMP:20210527T161019Z
URL:https://www.goriverwalk.com/greater-fort-lauderdale-events/8th-annual-
 reality-check-press-corps-recap-analysis-of-the-florida-state-legislative-
 session-2021
SUMMARY:8th Annual Reality Check: Press Corps Recap/analysis of the Florida
  State Legislative Session 2021
DESCRIPTION:Featuring a top-notch panel of journalists
ATTACH;FMTTYPE=image/jpeg:https://www.goriverwalk.com/wp-content/uploads/2
 021/05/TC-0621.jpg
CATEGORIES:Business,Community
END:VEVENT
BEGIN:VTIMEZONE
TZID:America/New_York
X-LIC-LOCATION:America/New_York
BEGIN:DAYLIGHT
DTSTART:20210314T030000
TZOFFSETFROM:-0500
TZOFFSETTO:-0400
TZNAME:EDT
END:DAYLIGHT
END:VTIMEZONE
END:VCALENDAR