BEGIN:VCALENDAR
VERSION:2.0
PRODID:-//wp-events-plugin.com//7.2.3.1//EN
TZID:America/New_York
X-WR-TIMEZONE:America/New_York
BEGIN:VEVENT
UID:7341@goriverwalk.com
DTSTART;TZID=America/New_York:20190510T190000
DTEND;TZID=America/New_York:20190510T220000
DTSTAMP:20190509T151800Z
URL:https://www.goriverwalk.com/greater-fort-lauderdale-events/6th-annual-
 dress-to-impress-fashion-show
SUMMARY:6th Annual Dress to Impress Fashion Show
DESCRIPTION:Supporting the Leukemia &amp\; Lymphoma Society &amp\; 100+Aban
 doned Dogs of Everglades
ATTACH;FMTTYPE=image/jpeg:https://www.goriverwalk.com/wp-content/uploads/2
 017/11/Default-calendar.jpg
CATEGORIES:Fundraiser
LOCATION:The Atlantic Hotel &amp\; Spa\, 601 North Fort Lauderdale Beach Bo
 ulevard\, Fort Lauderdale\, FL\, 33301\, United States
GEO:26.1315254;-80.10385789999998
X-APPLE-STRUCTURED-LOCATION;VALUE=URI;X-ADDRESS=601 North Fort Lauderdale B
 each Boulevard\, Fort Lauderdale\, FL\, 33301\, United States;X-APPLE-RADI
 US=100;X-TITLE=The Atlantic Hotel & Spa:geo:26.1315254,-80.10385789999998
END:VEVENT
BEGIN:VTIMEZONE
TZID:America/New_York
X-LIC-LOCATION:America/New_York
BEGIN:DAYLIGHT
DTSTART:20190310T030000
TZOFFSETFROM:-0500
TZOFFSETTO:-0400
TZNAME:EDT
END:DAYLIGHT
END:VTIMEZONE
END:VCALENDAR