BEGIN:VCALENDAR
VERSION:2.0
PRODID:-//wp-events-plugin.com//7.2.3.1//EN
TZID:America/New_York
X-WR-TIMEZONE:America/New_York
BEGIN:VEVENT
UID:7837@goriverwalk.com
DTSTART;TZID=America/New_York:20190817T160000
DTEND;TZID=America/New_York:20190817T173000
DTSTAMP:20190724T182630Z
URL:https://www.goriverwalk.com/greater-fort-lauderdale-events/69th-annive
 rsary-members-art-exhibit
SUMMARY:69th Anniversary Members' Art Exhibit
DESCRIPTION:Free Public Reception
ATTACH;FMTTYPE=image/jpeg:https://www.goriverwalk.com/wp-content/uploads/2
 019/07/BAG-69th-Anniversary-Exhibit.jpg
CATEGORIES:Art,Community
LOCATION:Broward Main Library Auditorium\, 100 S. Andrews Ave.\, Fort Laude
 rdale\, FL\, 33301\, United States
GEO:26.1209431;-80.14294559999996
X-APPLE-STRUCTURED-LOCATION;VALUE=URI;X-ADDRESS=100 S. Andrews Ave.\, Fort 
 Lauderdale\, FL\, 33301\, United States;X-APPLE-RADIUS=100;X-TITLE=Broward
  Main Library Auditorium:geo:26.1209431,-80.14294559999996
END:VEVENT
BEGIN:VTIMEZONE
TZID:America/New_York
X-LIC-LOCATION:America/New_York
BEGIN:DAYLIGHT
DTSTART:20190310T030000
TZOFFSETFROM:-0500
TZOFFSETTO:-0400
TZNAME:EDT
END:DAYLIGHT
END:VTIMEZONE
END:VCALENDAR