BEGIN:VCALENDAR
VERSION:2.0
PRODID:-//wp-events-plugin.com//7.2.3.1//EN
TZID:America/New_York
X-WR-TIMEZONE:America/New_York
BEGIN:VEVENT
UID:20584@goriverwalk.com
DTSTART;TZID=America/New_York:20250322T120000
DTEND;TZID=America/New_York:20250322T160000
DTSTAMP:20250311T154824Z
URL:https://www.goriverwalk.com/greater-fort-lauderdale-events/4th-annual-
 riverwalk-international-food-festival
SUMMARY:4th Annual Riverwalk International Food Festival
DESCRIPTION:Enjoy offerings from South Florida's dynamic culinary scene
ATTACH;FMTTYPE=image/jpeg:https://www.goriverwalk.com/wp-content/uploads/2
 025/01/3-22-25-RIFF-Logo.jpg
CATEGORIES:Cocktail,Community,Festival,Food,Free,Fundraiser,Riverwalk
 Front Page,Riverwalk Happenings
LOCATION:Esplanade Park\, 400 SW 2nd Street\, Fort Lauderdale\, Florida\, 3
 3312\, United States
GEO:26.120046;-80.14795199999998
X-APPLE-STRUCTURED-LOCATION;VALUE=URI;X-ADDRESS=400 SW 2nd Street\, Fort La
 uderdale\, Florida\, 33312\, United States;X-APPLE-RADIUS=100;X-TITLE=Espl
 anade Park:geo:26.120046,-80.14795199999998
END:VEVENT
BEGIN:VTIMEZONE
TZID:America/New_York
X-LIC-LOCATION:America/New_York
BEGIN:DAYLIGHT
DTSTART:20250309T030000
TZOFFSETFROM:-0500
TZOFFSETTO:-0400
TZNAME:EDT
END:DAYLIGHT
END:VTIMEZONE
END:VCALENDAR