BEGIN:VCALENDAR
VERSION:2.0
PRODID:-//wp-events-plugin.com//7.2.3.1//EN
TZID:America/New_York
X-WR-TIMEZONE:America/New_York
BEGIN:VEVENT
UID:2148@goriverwalk.com
DTSTART;TZID=America/New_York:20160326T180000
DTEND;TZID=America/New_York:20160326T220000
DTSTAMP:20160307T202733Z
URL:https://www.goriverwalk.com/greater-fort-lauderdale-events/4th-annual-
 harbor-lights-gala
SUMMARY:4th Annual Harbor Lights Gala
DESCRIPTION:Calling all gangsters and molls\, rum runners and dames. Come k
 ick up your heals and bend your elbows.
ATTACH;FMTTYPE=image/jpeg:https://www.goriverwalk.com/wp-content/uploads/2
 015/12/Default-calendar-1.jpg
CATEGORIES:Food
LOCATION:The W Hotel Fort Lauderdale\, 401 Fort Lauderdale Beach Boulevard\
 , Fort Lauderdale\, Florida\, 33304\, United States
GEO:26.1285284;-80.10473000000002
X-APPLE-STRUCTURED-LOCATION;VALUE=URI;X-ADDRESS=401 Fort Lauderdale Beach B
 oulevard\, Fort Lauderdale\, Florida\, 33304\, United States;X-APPLE-RADIU
 S=100;X-TITLE=The W Hotel Fort Lauderdale:geo:26.1285284,-80.1047300000000
 2
END:VEVENT
BEGIN:VTIMEZONE
TZID:America/New_York
X-LIC-LOCATION:America/New_York
BEGIN:DAYLIGHT
DTSTART:20160313T030000
TZOFFSETFROM:-0500
TZOFFSETTO:-0400
TZNAME:EDT
END:DAYLIGHT
END:VTIMEZONE
END:VCALENDAR