BEGIN:VCALENDAR
VERSION:2.0
PRODID:-//wp-events-plugin.com//7.2.3.1//EN
TZID:America/New_York
X-WR-TIMEZONE:America/New_York
BEGIN:VEVENT
UID:4527@goriverwalk.com
DTSTART;TZID=America/New_York:20180427T190000
DTEND;TZID=America/New_York:20180427T220000
DTSTAMP:20180403T151434Z
URL:https://www.goriverwalk.com/greater-fort-lauderdale-events/4th-annual-
 diversity-honors
SUMMARY:4th Annual Diversity Honors
DESCRIPTION:Benefitting The Pride Center at Equality Park and the Harvey Mi
 lk Foundation
ATTACH;FMTTYPE=image/jpeg:https://www.goriverwalk.com/wp-content/uploads/2
 018/04/diversity-honors.jpg
CATEGORIES:Cocktail,Food,Fundraiser
LOCATION:Seminole Hard Rock Hotel and Casino\, 1 Seminole Way\, Hollywood\,
  FL\, 33314\, United States
GEO:26.0525928;-80.21242110000003
X-APPLE-STRUCTURED-LOCATION;VALUE=URI;X-ADDRESS=1 Seminole Way\, Hollywood\
 , FL\, 33314\, United States;X-APPLE-RADIUS=100;X-TITLE=Seminole Hard Rock
  Hotel and Casino:geo:26.0525928,-80.21242110000003
END:VEVENT
BEGIN:VTIMEZONE
TZID:America/New_York
X-LIC-LOCATION:America/New_York
BEGIN:DAYLIGHT
DTSTART:20180311T030000
TZOFFSETFROM:-0500
TZOFFSETTO:-0400
TZNAME:EDT
END:DAYLIGHT
END:VTIMEZONE
END:VCALENDAR