BEGIN:VCALENDAR
VERSION:2.0
PRODID:-//wp-events-plugin.com//7.2.3.1//EN
TZID:America/New_York
X-WR-TIMEZONE:America/New_York
BEGIN:VEVENT
UID:18183@goriverwalk.com
DTSTART;TZID=America/New_York:20240309T180000
DTEND;TZID=America/New_York:20240309T220000
DTSTAMP:20231120T214749Z
URL:https://www.goriverwalk.com/greater-fort-lauderdale-events/4th-annual-
 dinner-in-the-garden
SUMMARY:4th Annual Dinner in the Garden
DESCRIPTION:Benefiting H.O.M.E.S.\, Inc
ATTACH;FMTTYPE=image/jpeg:https://www.goriverwalk.com/wp-content/uploads/2
 023/11/1DinnerInTheGarden.jpg
CATEGORIES:Fundraiser
LOCATION:H.O.M.E.S.\, Inc Outdoor Garden\, 690 NE 13th St. #101\, Fort Laud
 erdale\, FL\, United States
X-APPLE-STRUCTURED-LOCATION;VALUE=URI;X-ADDRESS=690 NE 13th St. #101\, Fort
  Lauderdale\, FL\, United States;X-APPLE-RADIUS=100;X-TITLE=H.O.M.E.S.\, I
 nc Outdoor Garden:geo:0,0
END:VEVENT
BEGIN:VTIMEZONE
TZID:America/New_York
X-LIC-LOCATION:America/New_York
BEGIN:STANDARD
DTSTART:20231105T010000
TZOFFSETFROM:-0400
TZOFFSETTO:-0500
TZNAME:EST
END:STANDARD
END:VTIMEZONE
END:VCALENDAR