BEGIN:VCALENDAR
VERSION:2.0
PRODID:-//wp-events-plugin.com//7.2.3.1//EN
TZID:America/New_York
X-WR-TIMEZONE:America/New_York
BEGIN:VEVENT
UID:7386@goriverwalk.com
DTSTART;TZID=America/New_York:20190722T090000
DTEND;TZID=America/New_York:20190722T160000
DTSTAMP:20190510T154232Z
URL:https://www.goriverwalk.com/greater-fort-lauderdale-events/4-h-bug-cam
 p
SUMMARY:4-H Bug Camp
DESCRIPTION:For youths 7-10 from July 22-26
ATTACH;FMTTYPE=image/jpeg:https://www.goriverwalk.com/wp-content/uploads/2
 019/05/Broward-4-H.jpg
CATEGORIES:Education
LOCATION:UF/IFAS Extension Education Center\, 3245 College Avenue\, Davie \
 , FL\, 33314\, United States
GEO:26.0835611;-80.23769099999998
X-APPLE-STRUCTURED-LOCATION;VALUE=URI;X-ADDRESS=3245 College Avenue\, Davie
  \, FL\, 33314\, United States;X-APPLE-RADIUS=100;X-TITLE=UF/IFAS Extensio
 n Education Center:geo:26.0835611,-80.23769099999998
END:VEVENT
BEGIN:VTIMEZONE
TZID:America/New_York
X-LIC-LOCATION:America/New_York
BEGIN:DAYLIGHT
DTSTART:20190310T030000
TZOFFSETFROM:-0500
TZOFFSETTO:-0400
TZNAME:EDT
END:DAYLIGHT
END:VTIMEZONE
END:VCALENDAR