BEGIN:VCALENDAR
VERSION:2.0
PRODID:-//wp-events-plugin.com//7.2.3.1//EN
TZID:America/New_York
X-WR-TIMEZONE:America/New_York
BEGIN:VEVENT
UID:2849@goriverwalk.com
DTSTART;TZID=America/New_York:20170101T110000
DTEND;TZID=America/New_York:20170101T143000
DTSTAMP:20161229T145331Z
URL:https://www.goriverwalk.com/greater-fort-lauderdale-events/3rd-annual-
 new-years-day-polar-bear-plunge
SUMMARY:3rd Annual New Year’s Day Polar Bear Plunge
DESCRIPTION:Wash away 2016 and refresh with a literal plunge into 2017.
ATTACH;FMTTYPE=image/jpeg:https://www.goriverwalk.com/wp-content/uploads/2
 016/12/The-Atlantic-Hotel-Spa_View-from-the-Beach.jpg
CATEGORIES:Community,Food,Holiday
LOCATION:Beauty &amp\; the Feast Bar | Kitchen\, 601 N Fort Lauderdale Beac
 h Boulevard\, Fort Lauderdale\, FL\, 33304\, United States
GEO:26.1315254;-80.10385789999998
X-APPLE-STRUCTURED-LOCATION;VALUE=URI;X-ADDRESS=601 N Fort Lauderdale Beach
  Boulevard\, Fort Lauderdale\, FL\, 33304\, United States;X-APPLE-RADIUS=1
 00;X-TITLE=Beauty & the Feast Bar | Kitchen:geo:26.1315254,-80.10385789999
 998
END:VEVENT
BEGIN:VTIMEZONE
TZID:America/New_York
X-LIC-LOCATION:America/New_York
BEGIN:STANDARD
DTSTART:20161106T010000
TZOFFSETFROM:-0400
TZOFFSETTO:-0500
TZNAME:EST
END:STANDARD
END:VTIMEZONE
END:VCALENDAR