BEGIN:VCALENDAR
VERSION:2.0
PRODID:-//wp-events-plugin.com//7.2.3.1//EN
TZID:America/New_York
X-WR-TIMEZONE:America/New_York
BEGIN:VEVENT
UID:20025@goriverwalk.com
DTSTART;TZID=America/New_York:20250201T090000
DTEND;TZID=America/New_York:20250201T120000
DTSTAMP:20250127T201852Z
URL:https://www.goriverwalk.com/greater-fort-lauderdale-events/35th-annual
 -vca-walk-for-the-animals-2025
SUMMARY:35TH Annual VCA Walk for the Animals 2025
DESCRIPTION:Fundraise for the animals then celebrate on Walk Day!
ATTACH;FMTTYPE=image/jpeg:https://www.goriverwalk.com/wp-content/uploads/2
 024/11/WALK-2025-SMALL-7-x-7-in-2.png
CATEGORIES:Community
LOCATION:Las Olas Intracoastal Promenade Park\, 80 Las Olas Circle\, Fort L
 auderdale\, FL\, United States
X-APPLE-STRUCTURED-LOCATION;VALUE=URI;X-ADDRESS=80 Las Olas Circle\, Fort L
 auderdale\, FL\, United States;X-APPLE-RADIUS=100;X-TITLE=Las Olas Intraco
 astal Promenade Park:geo:0,0
END:VEVENT
BEGIN:VTIMEZONE
TZID:America/New_York
X-LIC-LOCATION:America/New_York
BEGIN:STANDARD
DTSTART:20241103T010000
TZOFFSETFROM:-0400
TZOFFSETTO:-0500
TZNAME:EST
END:STANDARD
END:VTIMEZONE
END:VCALENDAR