BEGIN:VCALENDAR
VERSION:2.0
PRODID:-//wp-events-plugin.com//7.2.3.1//EN
TZID:America/New_York
X-WR-TIMEZONE:America/New_York
BEGIN:VEVENT
UID:16531@goriverwalk.com
DTSTART;TZID=America/New_York:20230304T100000
DTEND;TZID=America/New_York:20230305T170000
DTSTAMP:20230227T153333Z
URL:https://www.goriverwalk.com/greater-fort-lauderdale-events/35th-annual
 -las-olas-art-fair-3
SUMMARY:35th Annual Las Olas Art Fair
DESCRIPTION:One of the top art festivals in the U.S.
ATTACH;FMTTYPE=image/jpeg:https://www.goriverwalk.com/wp-content/uploads/2
 021/10/las_olas_october_2021_0-1-scaled-e1633459097896.jpg
CATEGORIES:Art,Festival
LOCATION:Las Olas Boulevard\, SE 6th Avenue \, Fort Lauderdale\, FL\, 33301
 \, United States
GEO:26.1159423;-80.13702619999998
X-APPLE-STRUCTURED-LOCATION;VALUE=URI;X-ADDRESS=SE 6th Avenue \, Fort Laude
 rdale\, FL\, 33301\, United States;X-APPLE-RADIUS=100;X-TITLE=Las Olas Bou
 levard:geo:26.1159423,-80.13702619999998
END:VEVENT
BEGIN:VTIMEZONE
TZID:America/New_York
X-LIC-LOCATION:America/New_York
BEGIN:STANDARD
DTSTART:20221106T010000
TZOFFSETFROM:-0400
TZOFFSETTO:-0500
TZNAME:EST
END:STANDARD
END:VTIMEZONE
END:VCALENDAR