BEGIN:VCALENDAR
VERSION:2.0
PRODID:-//wp-events-plugin.com//7.2.3.1//EN
TZID:America/New_York
X-WR-TIMEZONE:America/New_York
BEGIN:VEVENT
UID:15509@goriverwalk.com
DTSTART;TZID=America/New_York:20221120T090000
DTEND;TZID=America/New_York:20221120T090000
DTSTAMP:20221104T202700Z
URL:https://www.goriverwalk.com/greater-fort-lauderdale-events/30th-annual
 -thanksgiving-basket-brigade
SUMMARY:30th Annual Thanksgiving Basket Brigade
DESCRIPTION:Volunteers needed!
ATTACH;FMTTYPE=image/jpeg:https://www.goriverwalk.com/wp-content/uploads/2
 022/11/CDTC-Basket-Brigade.png
CATEGORIES:Community,Holiday
LOCATION:Children's Diagnostic and Treatment Center\, 1401 South Federal Hi
 ghway\, Fort Lauderdale\, Florida\, 33316\, United States
GEO:26.1044173;-80.13757939999999
X-APPLE-STRUCTURED-LOCATION;VALUE=URI;X-ADDRESS=1401 South Federal Highway\
 , Fort Lauderdale\, Florida\, 33316\, United States;X-APPLE-RADIUS=100;X-T
 ITLE=Children's Diagnostic and Treatment Center:geo:26.1044173,-80.1375793
 9999999
END:VEVENT
BEGIN:VTIMEZONE
TZID:America/New_York
X-LIC-LOCATION:America/New_York
BEGIN:STANDARD
DTSTART:20221106T010000
TZOFFSETFROM:-0400
TZOFFSETTO:-0500
TZNAME:EST
END:STANDARD
END:VTIMEZONE
END:VCALENDAR