BEGIN:VCALENDAR
VERSION:2.0
PRODID:-//wp-events-plugin.com//7.2.3.1//EN
TZID:America/New_York
X-WR-TIMEZONE:America/New_York
BEGIN:VEVENT
UID:17328@goriverwalk.com
DTSTART;TZID=America/New_York:20231115T090000
DTEND;TZID=America/New_York:20231115T170000
DTSTAMP:20231107T150711Z
URL:https://www.goriverwalk.com/greater-fort-lauderdale-events/2nd-annual-
 south-florida-innovation-day
SUMMARY:2nd Annual South Florida Innovation Day
DESCRIPTION:Further strengthening the South Florida innovation ecosystem
ATTACH;FMTTYPE=image/jpeg:https://www.goriverwalk.com/wp-content/uploads/2
 023/08/LC_Innovation-Day-2023-Save-the-Date.png
CATEGORIES:Community,Education,Networking,Science
LOCATION:Alan B. Levan | NSU Broward Center of Innovation\, 3100 Ray Ferrer
 o Jr. Blvd\,\, Fort Lauderdale\, FL\, 33314\, United States
X-APPLE-STRUCTURED-LOCATION;VALUE=URI;X-ADDRESS=3100 Ray Ferrero Jr. Blvd\,
 \, Fort Lauderdale\, FL\, 33314\, United States;X-APPLE-RADIUS=100;X-TITLE
 =Alan B. Levan | NSU Broward Center of Innovation:geo:0,0
END:VEVENT
BEGIN:VTIMEZONE
TZID:America/New_York
X-LIC-LOCATION:America/New_York
BEGIN:STANDARD
DTSTART:20231105T010000
TZOFFSETFROM:-0400
TZOFFSETTO:-0500
TZNAME:EST
END:STANDARD
END:VTIMEZONE
END:VCALENDAR