BEGIN:VCALENDAR
VERSION:2.0
PRODID:-//wp-events-plugin.com//7.2.3.1//EN
TZID:America/New_York
X-WR-TIMEZONE:America/New_York
BEGIN:VEVENT
UID:9249@goriverwalk.com
DTSTART;TZID=America/New_York:20200118T000000
DTEND;TZID=America/New_York:20200118T000000
DTSTAMP:20200108T224333Z
URL:https://www.goriverwalk.com/greater-fort-lauderdale-events/2nd-annual-
 florida-sand-angels-beach-clean-up
SUMMARY:2nd Annual Florida Sand Angels Beach Clean-Up
DESCRIPTION:An activity for the whole family
ATTACH;FMTTYPE=image/jpeg:https://www.goriverwalk.com/wp-content/uploads/2
 017/12/MODS-Logo.jpg
CATEGORIES:Community
LOCATION:Von D. Mizell and Eula Johnson State Park\, 6503 N Ocean Dr\, Dani
 a Beach\, FL\, 33004\, United States
X-APPLE-STRUCTURED-LOCATION;VALUE=URI;X-ADDRESS=6503 N Ocean Dr\, Dania Bea
 ch\, FL\, 33004\, United States;X-APPLE-RADIUS=100;X-TITLE=Von D. Mizell a
 nd Eula Johnson State Park:geo:0,0
END:VEVENT
BEGIN:VTIMEZONE
TZID:America/New_York
X-LIC-LOCATION:America/New_York
BEGIN:STANDARD
DTSTART:20191103T010000
TZOFFSETFROM:-0400
TZOFFSETTO:-0500
TZNAME:EST
END:STANDARD
END:VTIMEZONE
END:VCALENDAR