BEGIN:VCALENDAR
VERSION:2.0
PRODID:-//wp-events-plugin.com//7.2.3.1//EN
TZID:America/New_York
X-WR-TIMEZONE:America/New_York
BEGIN:VEVENT
UID:18910@goriverwalk.com
DTSTART;TZID=America/New_York:20240407T140000
DTEND;TZID=America/New_York:20240407T180000
DTSTAMP:20240402T214142Z
URL:https://www.goriverwalk.com/greater-fort-lauderdale-events/2nd-annual-
 dan-marino-foundation-autism-awareness-month-family-sunday
SUMMARY:2nd Annual Dan Marino Foundation Autism Awareness Month Family Sund
 ay
DESCRIPTION:An afternoon of entertainment including music\, interactive per
 formances\, and life-size games
ATTACH;FMTTYPE=image/jpeg:https://www.goriverwalk.com/wp-content/uploads/2
 024/04/Dania-SM-700-x-700-px-1.png
CATEGORIES:Children,Community,Education,Health
LOCATION:Dania Pointe\, 139 S Compass Way\, Dania Beach\, FL\, 33004\, Unit
 ed States
X-APPLE-STRUCTURED-LOCATION;VALUE=URI;X-ADDRESS=139 S Compass Way\, Dania B
 each\, FL\, 33004\, United States;X-APPLE-RADIUS=100;X-TITLE=Dania Pointe:
 geo:0,0
END:VEVENT
BEGIN:VTIMEZONE
TZID:America/New_York
X-LIC-LOCATION:America/New_York
BEGIN:DAYLIGHT
DTSTART:20240310T030000
TZOFFSETFROM:-0500
TZOFFSETTO:-0400
TZNAME:EDT
END:DAYLIGHT
END:VTIMEZONE
END:VCALENDAR