BEGIN:VCALENDAR
VERSION:2.0
PRODID:-//wp-events-plugin.com//7.2.3.1//EN
TZID:America/New_York
X-WR-TIMEZONE:America/New_York
BEGIN:VEVENT
UID:1310@goriverwalk.com
DTSTART;TZID=America/New_York:20160110T100000
DTEND;TZID=America/New_York:20160110T170000
DTSTAMP:20151204T220134Z
URL:https://www.goriverwalk.com/greater-fort-lauderdale-events/28th-annual
 -las-olas-art-fair-part-1-2
SUMMARY:28th Annual Las Olas Art Fair - Part 1
DESCRIPTION:Meet the creators of the art on display\; commission a specific
  piece\; ask questions about techniques\; learn the sources of their inspi
 rations\; and purchase fine works of art at affordable prices.\n\n&nbsp\;
ATTACH;FMTTYPE=image/jpeg:https://www.goriverwalk.com/wp-content/uploads/2
 015/11/Art-Fair-Jan3.jpg
CATEGORIES:Art
LOCATION:Las Olas Boulevard\, 600 East Las Olas Boulevard\, Fort Lauderdale
 \, FL\, 33301\, United States
GEO:26.1189927;-80.1369937
X-APPLE-STRUCTURED-LOCATION;VALUE=URI;X-ADDRESS=600 East Las Olas Boulevard
 \, Fort Lauderdale\, FL\, 33301\, United States;X-APPLE-RADIUS=100;X-TITLE
 =Las Olas Boulevard:geo:26.1189927,-80.1369937
END:VEVENT
BEGIN:VTIMEZONE
TZID:America/New_York
X-LIC-LOCATION:America/New_York
BEGIN:STANDARD
DTSTART:20151101T010000
TZOFFSETFROM:-0400
TZOFFSETTO:-0500
TZNAME:EST
END:STANDARD
END:VTIMEZONE
END:VCALENDAR