BEGIN:VCALENDAR
VERSION:2.0
PRODID:-//wp-events-plugin.com//7.2.3.1//EN
TZID:America/New_York
X-WR-TIMEZONE:America/New_York
BEGIN:VEVENT
UID:18057@goriverwalk.com
DTSTART;TZID=America/New_York:20231115T180000
DTEND;TZID=America/New_York:20231115T200000
DTSTAMP:20231031T135016Z
URL:https://www.goriverwalk.com/greater-fort-lauderdale-events/27th-annual
 -history-makers
SUMMARY:27th Annual History Makers
DESCRIPTION:Honoring Kelley Shanley and Galleria Fort Lauderdale
ATTACH;FMTTYPE=image/jpeg:https://www.goriverwalk.com/wp-content/uploads/2
 023/10/History-Makers-e1698759979215.jpg
CATEGORIES:Fundraiser
LOCATION:Galleria Fort Lauderdale\, 2414 E Sunrise Blvd\, Fort Lauderdale\,
  Florida\, 33304\, United States
X-APPLE-STRUCTURED-LOCATION;VALUE=URI;X-ADDRESS=2414 E Sunrise Blvd\, Fort 
 Lauderdale\, Florida\, 33304\, United States;X-APPLE-RADIUS=100;X-TITLE=Ga
 lleria Fort Lauderdale:geo:0,0
END:VEVENT
BEGIN:VTIMEZONE
TZID:America/New_York
X-LIC-LOCATION:America/New_York
BEGIN:STANDARD
DTSTART:20231105T010000
TZOFFSETFROM:-0400
TZOFFSETTO:-0500
TZNAME:EST
END:STANDARD
END:VTIMEZONE
END:VCALENDAR