BEGIN:VCALENDAR
VERSION:2.0
PRODID:-//wp-events-plugin.com//7.2.3.1//EN
TZID:America/New_York
X-WR-TIMEZONE:America/New_York
BEGIN:VEVENT
UID:8291@goriverwalk.com
DTSTART;TZID=America/New_York:20191018T180000
DTEND;TZID=America/New_York:20191018T230000
DTSTAMP:20190924T193140Z
URL:https://www.goriverwalk.com/greater-fort-lauderdale-events/25th-annive
 rsary-masquerade-gala
SUMMARY:25th Anniversary Masquerade Gala
DESCRIPTION:3-course meal and open bar
ATTACH;FMTTYPE=image/jpeg:https://www.goriverwalk.com/wp-content/uploads/2
 019/09/CREW-FLL.png
CATEGORIES:Business,Cocktail,Community
LOCATION:The Grateful Palate\, 3003 NE 32nd Avenue\, Fort Lauderdale\, FL\,
  United States
GEO:26.1655472;-80.1036408
X-APPLE-STRUCTURED-LOCATION;VALUE=URI;X-ADDRESS=3003 NE 32nd Avenue\, Fort 
 Lauderdale\, FL\, United States;X-APPLE-RADIUS=100;X-TITLE=The Grateful Pa
 late:geo:26.1655472,-80.1036408
END:VEVENT
BEGIN:VTIMEZONE
TZID:America/New_York
X-LIC-LOCATION:America/New_York
BEGIN:DAYLIGHT
DTSTART:20190310T030000
TZOFFSETFROM:-0500
TZOFFSETTO:-0400
TZNAME:EDT
END:DAYLIGHT
END:VTIMEZONE
END:VCALENDAR