BEGIN:VCALENDAR
VERSION:2.0
PRODID:-//wp-events-plugin.com//7.2.3.1//EN
TZID:America/New_York
X-WR-TIMEZONE:America/New_York
BEGIN:VEVENT
UID:16621@goriverwalk.com
DTSTART;TZID=America/New_York:20230504T180000
DTEND;TZID=America/New_York:20230504T200000
DTSTAMP:20230505T154019Z
URL:https://www.goriverwalk.com/greater-fort-lauderdale-events/23tribute
SUMMARY:23rd Annual Riverwalk Tribute
DESCRIPTION:Join Riverwalk Fort Lauderdale as they honor community leaders 
 for their many contributions to our City.
ATTACH;FMTTYPE=image/jpeg:https://www.goriverwalk.com/wp-content/uploads/2
 023/03/Tribute_23R6-scaled-e1678830085507.jpg
CATEGORIES:Business,Community,Fundraiser,Networking,Riverwalk Front
 Page,Riverwalk Happenings
LOCATION:Riverside Hotel\, 620 E. Las Olas Blvd.\, Fort Lauderdale\, Florid
 a\, 33301\, United States
GEO:26.1186601;-80.13621419999998
X-APPLE-STRUCTURED-LOCATION;VALUE=URI;X-ADDRESS=620 E. Las Olas Blvd.\, For
 t Lauderdale\, Florida\, 33301\, United States;X-APPLE-RADIUS=100;X-TITLE=
 Riverside Hotel:geo:26.1186601,-80.13621419999998
END:VEVENT
BEGIN:VTIMEZONE
TZID:America/New_York
X-LIC-LOCATION:America/New_York
BEGIN:DAYLIGHT
DTSTART:20230312T030000
TZOFFSETFROM:-0500
TZOFFSETTO:-0400
TZNAME:EDT
END:DAYLIGHT
END:VTIMEZONE
END:VCALENDAR