BEGIN:VCALENDAR
VERSION:2.0
PRODID:-//wp-events-plugin.com//7.2.3.1//EN
TZID:America/New_York
X-WR-TIMEZONE:America/New_York
BEGIN:VEVENT
UID:18034@goriverwalk.com
DTSTART;TZID=America/New_York:20231128T173000
DTEND;TZID=America/New_York:20231128T200000
DTSTAMP:20231120T232737Z
URL:https://www.goriverwalk.com/greater-fort-lauderdale-events/22nd-annual
 -stiles-light-up-downtown
SUMMARY:22nd Annual Stiles Light Up Downtown
DESCRIPTION:Raise a mistle-toast to the holiday season!
ATTACH;FMTTYPE=image/jpeg:https://www.goriverwalk.com/wp-content/uploads/2
 023/10/Flyer-copy.png
CATEGORIES:Holiday
LOCATION:The Plaza on Las Olas (Stiles Plaza)\, 301 E. Las Olas Blvd.  \, F
 ort Lauderdale\, Fl\, 33301  \, United States
X-APPLE-STRUCTURED-LOCATION;VALUE=URI;X-ADDRESS=301 E. Las Olas Blvd.  \, F
 ort Lauderdale\, Fl\, 33301  \, United States;X-APPLE-RADIUS=100;X-TITLE=T
 he Plaza on Las Olas (Stiles Plaza):geo:0,0
END:VEVENT
BEGIN:VTIMEZONE
TZID:America/New_York
X-LIC-LOCATION:America/New_York
BEGIN:STANDARD
DTSTART:20231105T010000
TZOFFSETFROM:-0400
TZOFFSETTO:-0500
TZNAME:EST
END:STANDARD
END:VTIMEZONE
END:VCALENDAR