BEGIN:VCALENDAR
VERSION:2.0
PRODID:-//wp-events-plugin.com//7.2.3.1//EN
TZID:America/New_York
X-WR-TIMEZONE:America/New_York
BEGIN:VEVENT
UID:22455@goriverwalk.com
DTSTART;TZID=America/New_York:20260402T184500
DTEND;TZID=America/New_York:20260402T204500
DTSTAMP:20260304T144004Z
URL:https://www.goriverwalk.com/greater-fort-lauderdale-events/2026-lexus-
 corporate-run
SUMMARY:2026 Lexus Corporate Run
DESCRIPTION:The 2026 Lexus Corporate Run\, presented by First Horizon Bank\
 , South Florida’s most highly anticipated annual 5K (3.1-mile) run/walk.
  Celebrating its 28th year\, “Fort Lauderdale’s Largest Office Party
 ” is open to employees of businesses\, corporations\, government agencie
 s\, financial institutions\, and non-profits\, regardless of company size.
  The event features a competition recognizing men’s\, women’s\, and co
 ed teams across 18 industry categories\, as well as a T-shirt contest. Par
 ticipants of all fitness levels are encouraged to join. Beginners can walk
  with colleagues and build motivation to improve their health\, while comp
 etitive runners can lead their corporate teams to victory.\n\nAs part of t
 he race series\, $1 from each participant will be donated to United Way.\n
 \nClick here for more information and registration.
ATTACH;FMTTYPE=image/jpeg:https://www.goriverwalk.com/wp-content/uploads/2
 026/02/LCR-FTL-Photo-1.jpg
CATEGORIES:Hobby,Networking,Sports
LOCATION:Esplanade Park\, 400 SW 2nd Street\, Fort Lauderdale\, Florida\, 3
 3312\, United States
GEO:26.120046;-80.14795199999998
X-APPLE-STRUCTURED-LOCATION;VALUE=URI;X-ADDRESS=400 SW 2nd Street\, Fort La
 uderdale\, Florida\, 33312\, United States;X-APPLE-RADIUS=100;X-TITLE=Espl
 anade Park:geo:26.120046,-80.14795199999998
END:VEVENT
BEGIN:VTIMEZONE
TZID:America/New_York
X-LIC-LOCATION:America/New_York
BEGIN:DAYLIGHT
DTSTART:20260308T030000
TZOFFSETFROM:-0500
TZOFFSETTO:-0400
TZNAME:EDT
END:DAYLIGHT
END:VTIMEZONE
END:VCALENDAR