BEGIN:VCALENDAR
VERSION:2.0
PRODID:-//wp-events-plugin.com//7.2.3.1//EN
TZID:America/New_York
X-WR-TIMEZONE:America/New_York
BEGIN:VEVENT
UID:19666@goriverwalk.com
DTSTART;TZID=America/New_York:20241018T173000
DTEND;TZID=America/New_York:20241018T173000
DTSTAMP:20241010T151806Z
URL:https://www.goriverwalk.com/greater-fort-lauderdale-events/2024-browar
 d-county-sports-hall-of-fame
SUMMARY:2024 Broward County Sports Hall of Fame
DESCRIPTION:Presented by the Broward Education Foundation 
ATTACH;FMTTYPE=image/jpeg:https://www.goriverwalk.com/wp-content/uploads/2
 024/09/IMG_5042.jpg
CATEGORIES:Sports
LOCATION:Margaritaville Hollywood Beach Resort\, 1111 N Ocean Drive\, Holly
 wood\, Florida\, 33019\, United States
GEO:26.0188856;-80.11628739999998
X-APPLE-STRUCTURED-LOCATION;VALUE=URI;X-ADDRESS=1111 N Ocean Drive\, Hollyw
 ood\, Florida\, 33019\, United States;X-APPLE-RADIUS=100;X-TITLE=Margarita
 ville Hollywood Beach Resort:geo:26.0188856,-80.11628739999998
END:VEVENT
BEGIN:VTIMEZONE
TZID:America/New_York
X-LIC-LOCATION:America/New_York
BEGIN:DAYLIGHT
DTSTART:20240310T030000
TZOFFSETFROM:-0500
TZOFFSETTO:-0400
TZNAME:EDT
END:DAYLIGHT
END:VTIMEZONE
END:VCALENDAR