BEGIN:VCALENDAR
VERSION:2.0
PRODID:-//wp-events-plugin.com//7.2.3.1//EN
TZID:America/New_York
X-WR-TIMEZONE:America/New_York
BEGIN:VEVENT
UID:16617@goriverwalk.com
DTSTART;TZID=America/New_York:20230722T060000
DTEND;TZID=America/New_York:20230722T093000
DTSTAMP:20230314T161033Z
URL:https://www.goriverwalk.com/greater-fort-lauderdale-events/2023-kettle
 -krush-5k-run-and-walk
SUMMARY:2023 Kettle Krush 5k Run and Walk
DESCRIPTION:Fun for all ages
ATTACH;FMTTYPE=image/jpeg:https://www.goriverwalk.com/wp-content/uploads/2
 023/03/KRUSH-5K.jpg
CATEGORIES:Community,Fundraiser
LOCATION:Markham Park\, 16001 W State Road 84\, Sunrise\, Florida\, 33326\,
  Broward County\, United States
GEO:26.133592;-80.35194430000001
X-APPLE-STRUCTURED-LOCATION;VALUE=URI;X-ADDRESS=16001 W State Road 84\, Sun
 rise\, Florida\, 33326\, Broward County\, United States;X-APPLE-RADIUS=100
 ;X-TITLE=Markham Park:geo:26.133592,-80.35194430000001
END:VEVENT
BEGIN:VTIMEZONE
TZID:America/New_York
X-LIC-LOCATION:America/New_York
BEGIN:DAYLIGHT
DTSTART:20230312T030000
TZOFFSETFROM:-0500
TZOFFSETTO:-0400
TZNAME:EDT
END:DAYLIGHT
END:VTIMEZONE
END:VCALENDAR