BEGIN:VCALENDAR
VERSION:2.0
PRODID:-//wp-events-plugin.com//7.2.3.1//EN
TZID:America/New_York
X-WR-TIMEZONE:America/New_York
BEGIN:VEVENT
UID:13976@goriverwalk.com
DTSTART;TZID=America/New_York:20220407T180000
DTEND;TZID=America/New_York:20221201T200000
DTSTAMP:20220405T145958Z
URL:https://www.goriverwalk.com/greater-fort-lauderdale-events/2022-save-o
 ur-seas-distinguished-speaker-series
SUMMARY:2022 Save Our Seas Distinguished Speaker Series
DESCRIPTION:Featuring scientists from around the world
ATTACH;FMTTYPE=image/jpeg:https://www.goriverwalk.com/wp-content/uploads/2
 020/08/MODS-manta-ray.jpg
CATEGORIES:Education,Science
END:VEVENT
BEGIN:VTIMEZONE
TZID:America/New_York
X-LIC-LOCATION:America/New_York
BEGIN:DAYLIGHT
DTSTART:20220313T030000
TZOFFSETFROM:-0500
TZOFFSETTO:-0400
TZNAME:EDT
END:DAYLIGHT
BEGIN:STANDARD
DTSTART:20221106T010000
TZOFFSETFROM:-0400
TZOFFSETTO:-0500
TZNAME:EST
END:STANDARD
END:VTIMEZONE
END:VCALENDAR