BEGIN:VCALENDAR
VERSION:2.0
PRODID:-//wp-events-plugin.com//7.2.3.1//EN
TZID:America/New_York
X-WR-TIMEZONE:America/New_York
BEGIN:VEVENT
UID:6185@goriverwalk.com
DTSTART;TZID=America/New_York:20190302T000000
DTEND;TZID=America/New_York:20190302T000000
DTSTAMP:20181108T213212Z
URL:https://www.goriverwalk.com/greater-fort-lauderdale-events/2019-take-s
 tock-in-children-of-broward-intracoastal-brunch
SUMMARY:2019 Take Stock in Children of Broward Intracoastal Brunch
DESCRIPTION:Honoring a mentor and community partner
ATTACH;FMTTYPE=image/jpeg:https://www.goriverwalk.com/wp-content/uploads/2
 018/11/brunch-Horizontal-TSIC-Intracoastal-Logo-700.png
CATEGORIES:Education
LOCATION:The Grateful Palate Catering and Events\, 3003 NE 32nd Ave\, Fort 
 Lauderdale\, FL\, 33308\, United States
GEO:26.1655132;-80.10364119999997
X-APPLE-STRUCTURED-LOCATION;VALUE=URI;X-ADDRESS=3003 NE 32nd Ave\, Fort Lau
 derdale\, FL\, 33308\, United States;X-APPLE-RADIUS=100;X-TITLE=The Gratef
 ul Palate Catering and Events:geo:26.1655132,-80.10364119999997
END:VEVENT
BEGIN:VTIMEZONE
TZID:America/New_York
X-LIC-LOCATION:America/New_York
BEGIN:STANDARD
DTSTART:20181104T010000
TZOFFSETFROM:-0400
TZOFFSETTO:-0500
TZNAME:EST
END:STANDARD
END:VTIMEZONE
END:VCALENDAR