BEGIN:VCALENDAR
VERSION:2.0
PRODID:-//wp-events-plugin.com//7.2.3.1//EN
TZID:America/New_York
X-WR-TIMEZONE:America/New_York
BEGIN:VEVENT
UID:8135@goriverwalk.com
DTSTART;TZID=America/New_York:20191024T180000
DTEND;TZID=America/New_York:20191024T220000
DTSTAMP:20190827T191445Z
URL:https://www.goriverwalk.com/greater-fort-lauderdale-events/2019-fair-a
 wards-gala-benefit
SUMMARY:2019 FAIR Awards Gala & Benefit
DESCRIPTION:Benefiting their educational mission
ATTACH;FMTTYPE=image/jpeg:https://www.goriverwalk.com/wp-content/uploads/2
 019/08/2019-FAIR-Gala-Event.-save-the-date.png
CATEGORIES:Cocktail,Food,Fundraiser
LOCATION:Fort Lauderdale Marriott Harbor Beach Resort & Spa\, 3030 Holiday 
 Drive\, Fort Lauderdale\, Florida\, 33316\, United States
GEO:26.1067251;-80.10584499999999
X-APPLE-STRUCTURED-LOCATION;VALUE=URI;X-ADDRESS=3030 Holiday Drive\, Fort L
 auderdale\, Florida\, 33316\, United States;X-APPLE-RADIUS=100;X-TITLE=For
 t Lauderdale Marriott Harbor Beach Resort & Spa:geo:26.1067251,-80.1058449
 9999999
END:VEVENT
BEGIN:VTIMEZONE
TZID:America/New_York
X-LIC-LOCATION:America/New_York
BEGIN:DAYLIGHT
DTSTART:20190310T030000
TZOFFSETFROM:-0500
TZOFFSETTO:-0400
TZNAME:EDT
END:DAYLIGHT
END:VTIMEZONE
END:VCALENDAR