BEGIN:VCALENDAR
VERSION:2.0
PRODID:-//wp-events-plugin.com//7.2.3.1//EN
TZID:America/New_York
X-WR-TIMEZONE:America/New_York
BEGIN:VEVENT
UID:6976@goriverwalk.com
DTSTART;TZID=America/New_York:20190504T183000
DTEND;TZID=America/New_York:20190504T233000
DTSTAMP:20190222T155053Z
URL:https://www.goriverwalk.com/greater-fort-lauderdale-events/2019-americ
 an-cancer-societys-celebration-gala
SUMMARY:2019 American Cancer Society’s Celebration Gala
DESCRIPTION:"Race for Research"
ATTACH;FMTTYPE=image/jpeg:https://www.goriverwalk.com/wp-content/uploads/2
 019/02/Small-Celebration-Gala-Logo-copy.jpg
CATEGORIES:Fundraiser
LOCATION:Fort Lauderdale Marriott Harbor Beach Resort &amp\; Spa\, 3030 Hol
 iday Dr\, Fort Lauderdale\, FL\, 33316\, United States
GEO:26.106874;-80.105782
X-APPLE-STRUCTURED-LOCATION;VALUE=URI;X-ADDRESS=3030 Holiday Dr\, Fort Laud
 erdale\, FL\, 33316\, United States;X-APPLE-RADIUS=100;X-TITLE=Fort Lauder
 dale Marriott Harbor Beach Resort & Spa:geo:26.106874,-80.105782
END:VEVENT
BEGIN:VTIMEZONE
TZID:America/New_York
X-LIC-LOCATION:America/New_York
BEGIN:DAYLIGHT
DTSTART:20190310T030000
TZOFFSETFROM:-0500
TZOFFSETTO:-0400
TZNAME:EDT
END:DAYLIGHT
END:VTIMEZONE
END:VCALENDAR