BEGIN:VCALENDAR
VERSION:2.0
PRODID:-//wp-events-plugin.com//7.2.3.1//EN
TZID:America/New_York
X-WR-TIMEZONE:America/New_York
BEGIN:VEVENT
UID:1435@goriverwalk.com
DTSTART;TZID=America/New_York:20160118T090000
DTEND;TZID=America/New_York:20160118T110000
DTSTAMP:20160114T203933Z
URL:https://www.goriverwalk.com/greater-fort-lauderdale-events/2016-king-h
 oliday-celebration
SUMMARY:2016 King Holiday Celebration
DESCRIPTION:The Annual King Holiday Parade and Unity March will start at NW
  5th Avenue and Sistrunk Blvd. and go to Huizenga Plaza where festivities 
 will celebrate the rich cultural diversity of Broward County.
ATTACH;FMTTYPE=image/jpeg:https://www.goriverwalk.com/wp-content/uploads/2
 016/01/Small-Sqare-for-calendar.jpg
CATEGORIES:History
LOCATION:ILA Local 1526\, 440 N.W. 6th  Street\, Fort Lauderdale\, FL\, Uni
 ted States
GEO:26.129387;-80.148422
X-APPLE-STRUCTURED-LOCATION;VALUE=URI;X-ADDRESS=440 N.W. 6th  Street\, Fort
  Lauderdale\, FL\, United States;X-APPLE-RADIUS=100;X-TITLE=ILA Local 1526
 :geo:26.129387,-80.148422
END:VEVENT
BEGIN:VTIMEZONE
TZID:America/New_York
X-LIC-LOCATION:America/New_York
BEGIN:STANDARD
DTSTART:20151101T010000
TZOFFSETFROM:-0400
TZOFFSETTO:-0500
TZNAME:EST
END:STANDARD
END:VTIMEZONE
END:VCALENDAR