BEGIN:VCALENDAR
VERSION:2.0
PRODID:-//wp-events-plugin.com//7.2.3.1//EN
TZID:America/New_York
X-WR-TIMEZONE:America/New_York
BEGIN:VEVENT
UID:15496@goriverwalk.com
DTSTART;TZID=America/New_York:20221105T080000
DTEND;TZID=America/New_York:20221105T080000
DTSTAMP:20221102T185246Z
URL:https://www.goriverwalk.com/greater-fort-lauderdale-events/19th-miles-
 for-smiles-5k
SUMMARY:19th Miles for Smiles 5K
DESCRIPTION:Walk\, sponsor or join a team!
ATTACH;FMTTYPE=image/jpeg:https://www.goriverwalk.com/wp-content/uploads/2
 022/11/MILES-FOR-SMILES.jpg
CATEGORIES:Children,Community,Fundraiser,Health,Sports
LOCATION:Pompano Beach Community Park\, NE 10th Street\, Pompano Beach\, Fl
 orida\, 33060\, United States
GEO:26.2413596;-80.1127477
X-APPLE-STRUCTURED-LOCATION;VALUE=URI;X-ADDRESS=NE 10th Street\, Pompano Be
 ach\, Florida\, 33060\, United States;X-APPLE-RADIUS=100;X-TITLE=Pompano B
 each Community Park:geo:26.2413596,-80.1127477
END:VEVENT
BEGIN:VTIMEZONE
TZID:America/New_York
X-LIC-LOCATION:America/New_York
BEGIN:DAYLIGHT
DTSTART:20220313T030000
TZOFFSETFROM:-0500
TZOFFSETTO:-0400
TZNAME:EDT
END:DAYLIGHT
END:VTIMEZONE
END:VCALENDAR