BEGIN:VCALENDAR
VERSION:2.0
PRODID:-//wp-events-plugin.com//7.2.3.1//EN
TZID:America/New_York
X-WR-TIMEZONE:America/New_York
BEGIN:VEVENT
UID:18550@goriverwalk.com
DTSTART;TZID=America/New_York:20240427T183000
DTEND;TZID=America/New_York:20240427T223000
DTSTAMP:20240306T203602Z
URL:https://www.goriverwalk.com/greater-fort-lauderdale-events/19th-annual
 -pediatrix-flip-flops-on-the-docks
SUMMARY:19th Annual Pediatrix Flip Flops on the Docks
DESCRIPTION:Benefiting Jack & Jill Center’s
ATTACH;FMTTYPE=image/jpeg:https://www.goriverwalk.com/wp-content/uploads/2
 024/01/Save-the-Date-Flip-Flops-2024-Website-Banner-3-copy.png
CATEGORIES:Fundraiser
LOCATION:Lauderdale Yacht Club\, 1725 SE 12th St \, Fort Lauderdale\, FL\, 
 33316\, United States
X-APPLE-STRUCTURED-LOCATION;VALUE=URI;X-ADDRESS=1725 SE 12th St \, Fort Lau
 derdale\, FL\, 33316\, United States;X-APPLE-RADIUS=100;X-TITLE=Lauderdale
  Yacht Club:geo:0,0
END:VEVENT
BEGIN:VTIMEZONE
TZID:America/New_York
X-LIC-LOCATION:America/New_York
BEGIN:DAYLIGHT
DTSTART:20240310T030000
TZOFFSETFROM:-0500
TZOFFSETTO:-0400
TZNAME:EDT
END:DAYLIGHT
END:VTIMEZONE
END:VCALENDAR