BEGIN:VCALENDAR
VERSION:2.0
PRODID:-//wp-events-plugin.com//7.2.3.1//EN
TZID:America/New_York
X-WR-TIMEZONE:America/New_York
BEGIN:VEVENT
UID:6158@goriverwalk.com
DTSTART;TZID=America/New_York:20181117T100000
DTEND;TZID=America/New_York:20181117T163000
DTSTAMP:20181101T180535Z
URL:https://www.goriverwalk.com/greater-fort-lauderdale-events/17th-annual
 -storybook-festival
SUMMARY:17th Annual StoryBook Festival
DESCRIPTION:Let's Go Fly A Kite!
ATTACH;FMTTYPE=image/jpeg:https://www.goriverwalk.com/wp-content/uploads/2
 017/11/Default-calendar.jpg
CATEGORIES:Education
LOCATION:Southwest Regional Library\, 16835 Sheridan Street\, Pembroke Pine
 s\, FL\, 33331\, United States
GEO:26.0310606;-80.37308539999998
X-APPLE-STRUCTURED-LOCATION;VALUE=URI;X-ADDRESS=16835 Sheridan Street\, Pem
 broke Pines\, FL\, 33331\, United States;X-APPLE-RADIUS=100;X-TITLE=Southw
 est Regional Library:geo:26.0310606,-80.37308539999998
END:VEVENT
BEGIN:VTIMEZONE
TZID:America/New_York
X-LIC-LOCATION:America/New_York
BEGIN:STANDARD
DTSTART:20181104T010000
TZOFFSETFROM:-0400
TZOFFSETTO:-0500
TZNAME:EST
END:STANDARD
END:VTIMEZONE
END:VCALENDAR