BEGIN:VCALENDAR
VERSION:2.0
PRODID:-//wp-events-plugin.com//7.2.3.1//EN
TZID:America/New_York
X-WR-TIMEZONE:America/New_York
BEGIN:VEVENT
UID:15016@goriverwalk.com
DTSTART;TZID=America/New_York:20221112T140000
DTEND;TZID=America/New_York:20221112T170000
DTSTAMP:20221017T171504Z
URL:https://www.goriverwalk.com/greater-fort-lauderdale-events/16th-annual
 -mutts-martinis
SUMMARY:16th Annual Mutts & Martinis
DESCRIPTION:Bring out your well-behaved fur baby for a day of doggie fun.  
ATTACH;FMTTYPE=image/jpeg:https://www.goriverwalk.com/wp-content/uploads/2
 022/09/Mutts-Martinis-logo-UPDATED-9.jpg
CATEGORIES:Children,Festival,Fundraiser,Riverwalk Front Page,Riverwalk
 Happenings
LOCATION:Esplanade Park\, 400 SW 2nd Street\, Fort Lauderdale\, Florida\, 3
 3312\, United States
GEO:26.120046;-80.14795199999998
X-APPLE-STRUCTURED-LOCATION;VALUE=URI;X-ADDRESS=400 SW 2nd Street\, Fort La
 uderdale\, Florida\, 33312\, United States;X-APPLE-RADIUS=100;X-TITLE=Espl
 anade Park:geo:26.120046,-80.14795199999998
END:VEVENT
BEGIN:VTIMEZONE
TZID:America/New_York
X-LIC-LOCATION:America/New_York
BEGIN:STANDARD
DTSTART:20221106T010000
TZOFFSETFROM:-0400
TZOFFSETTO:-0500
TZNAME:EST
END:STANDARD
END:VTIMEZONE
END:VCALENDAR