BEGIN:VCALENDAR
VERSION:2.0
PRODID:-//wp-events-plugin.com//7.2.3.1//EN
TZID:America/New_York
X-WR-TIMEZONE:America/New_York
BEGIN:VEVENT
UID:6915@goriverwalk.com
DTSTART;TZID=America/New_York:20190601T190000
DTEND;TZID=America/New_York:20190601T230000
DTSTAMP:20190218T184112Z
URL:https://www.goriverwalk.com/greater-fort-lauderdale-events/15th-annive
 rsary-gold-party
SUMMARY:15th Anniversary Gold Party
DESCRIPTION:Benefiting children's cancer funding
ATTACH;FMTTYPE=image/jpeg:https://www.goriverwalk.com/wp-content/uploads/2
 019/02/JJCCF-Gold-Badge-Logo-01.jpg
CATEGORIES:Fundraiser
LOCATION:Revolution Live\, 100 SW 3rd Avenue\, Fort Lauderdale\, FL\, 33312
 \, United States
GEO:26.1213372;-80.14640580000003
X-APPLE-STRUCTURED-LOCATION;VALUE=URI;X-ADDRESS=100 SW 3rd Avenue\, Fort La
 uderdale\, FL\, 33312\, United States;X-APPLE-RADIUS=100;X-TITLE=Revolutio
 n Live:geo:26.1213372,-80.14640580000003
END:VEVENT
BEGIN:VTIMEZONE
TZID:America/New_York
X-LIC-LOCATION:America/New_York
BEGIN:DAYLIGHT
DTSTART:20190310T030000
TZOFFSETFROM:-0500
TZOFFSETTO:-0400
TZNAME:EDT
END:DAYLIGHT
END:VTIMEZONE
END:VCALENDAR