BEGIN:VCALENDAR
VERSION:2.0
PRODID:-//wp-events-plugin.com//7.2.3.1//EN
TZID:America/New_York
X-WR-TIMEZONE:America/New_York
BEGIN:VEVENT
UID:2674@goriverwalk.com
DTSTART;TZID=America/New_York:20161109T110000
DTEND;TZID=America/New_York:20161109T110000
DTSTAMP:20161024T172305Z
URL:https://www.goriverwalk.com/greater-fort-lauderdale-events/13703
SUMMARY:The 29th Annual National Philanthropy Day Awards Luncheon
DESCRIPTION:An opportunity to recognize members of our community who demon
 strate a commitment to leadership in philanthropy and volunteerism.
CATEGORIES:Business,Community,Fundraiser
LOCATION:The Signature Grand\, 6900 W State Road 84\, Davie\, FL\, 33317\, 
 United States
GEO:26.0942378;-80.2370707
X-APPLE-STRUCTURED-LOCATION;VALUE=URI;X-ADDRESS=6900 W State Road 84\, Davi
 e\, FL\, 33317\, United States;X-APPLE-RADIUS=100;X-TITLE=The Signature Gr
 and:geo:26.0942378,-80.2370707
END:VEVENT
BEGIN:VTIMEZONE
TZID:America/New_York
X-LIC-LOCATION:America/New_York
BEGIN:STANDARD
DTSTART:20161106T010000
TZOFFSETFROM:-0400
TZOFFSETTO:-0500
TZNAME:EST
END:STANDARD
END:VTIMEZONE
END:VCALENDAR