BEGIN:VCALENDAR
VERSION:2.0
PRODID:-//wp-events-plugin.com//7.2.3.1//EN
TZID:America/New_York
X-WR-TIMEZONE:America/New_York
BEGIN:VEVENT
UID:5030@goriverwalk.com
DTSTART;TZID=America/New_York:20181006T180000
DTEND;TZID=America/New_York:20181006T224500
DTSTAMP:20180927T174155Z
URL:https://www.goriverwalk.com/greater-fort-lauderdale-events/12th-annual
 -chefs-helping-the-homeless
SUMMARY:12th Annual Chefs Helping the Homeless
DESCRIPTION:Mystery Dinner Experience
ATTACH;FMTTYPE=image/jpeg:https://www.goriverwalk.com/wp-content/uploads/2
 018/06/rsz_copy_of_copy_of_save_the_date.png
CATEGORIES:Food,Fundraiser
LOCATION:GALLERYone DoubleTree Suites by Hilton\, 2670 East Sunrise Blvd.\,
  Fort Lauderdale\, Florida\, 33304\, United States
GEO:26.137367;-80.109261
X-APPLE-STRUCTURED-LOCATION;VALUE=URI;X-ADDRESS=2670 East Sunrise Blvd.\, F
 ort Lauderdale\, Florida\, 33304\, United States;X-APPLE-RADIUS=100;X-TITL
 E=GALLERYone DoubleTree Suites by Hilton:geo:26.137367,-80.109261
END:VEVENT
BEGIN:VTIMEZONE
TZID:America/New_York
X-LIC-LOCATION:America/New_York
BEGIN:DAYLIGHT
DTSTART:20180311T030000
TZOFFSETFROM:-0500
TZOFFSETTO:-0400
TZNAME:EDT
END:DAYLIGHT
END:VTIMEZONE
END:VCALENDAR