BEGIN:VCALENDAR
VERSION:2.0
PRODID:-//wp-events-plugin.com//7.2.3.1//EN
TZID:America/New_York
X-WR-TIMEZONE:America/New_York
BEGIN:VEVENT
UID:2664@goriverwalk.com
DTSTART;TZID=America/New_York:20161114T180000
DTEND;TZID=America/New_York:20161114T210000
DTSTAMP:20161020T203639Z
URL:https://www.goriverwalk.com/greater-fort-lauderdale-events/11th-annual
 -taste-of-the-island
SUMMARY:11th Annual Taste of the Island
DESCRIPTION:The 11th Annual Taste of the Island will once again tantalize 
 your taste buds.
ATTACH;FMTTYPE=image/jpeg:https://www.goriverwalk.com/wp-content/uploads/2
 015/12/Default-calendar.jpg
CATEGORIES:Food
LOCATION:Richardson Historic Park and Nature Preserve\, 1937 Wilton Drive\,
  Wilton Manors\, Florida\, 33305\, United States
GEO:26.1521673;-80.14079939999999
X-APPLE-STRUCTURED-LOCATION;VALUE=URI;X-ADDRESS=1937 Wilton Drive\, Wilton 
 Manors\, Florida\, 33305\, United States;X-APPLE-RADIUS=100;X-TITLE=Richar
 dson Historic Park and Nature Preserve:geo:26.1521673,-80.14079939999999
END:VEVENT
BEGIN:VTIMEZONE
TZID:America/New_York
X-LIC-LOCATION:America/New_York
BEGIN:STANDARD
DTSTART:20161106T010000
TZOFFSETFROM:-0400
TZOFFSETTO:-0500
TZNAME:EST
END:STANDARD
END:VTIMEZONE
END:VCALENDAR