BEGIN:VCALENDAR
VERSION:2.0
PRODID:-//wp-events-plugin.com//7.2.3.1//EN
TZID:America/New_York
X-WR-TIMEZONE:America/New_York
BEGIN:VEVENT
UID:6707@goriverwalk.com
DTSTART;TZID=America/New_York:20190202T073000
DTEND;TZID=America/New_York:20190202T113000
DTSTAMP:20190111T165254Z
URL:https://www.goriverwalk.com/greater-fort-lauderdale-events/10th-annual
 -walk-for-wishes-5k-walk-run-broward-county
SUMMARY:10th Annual Walk For Wishes 5K Walk/Run Broward County
DESCRIPTION:Family Fun Day activities
ATTACH;FMTTYPE=image/jpeg:https://www.goriverwalk.com/wp-content/uploads/2
 019/01/wfw_greeting_page_default.jpg
CATEGORIES:Fundraiser
LOCATION:Markham Park\, 16001 W State Road 84\, Sunrise\, Florida\, 33326\,
  Broward County\, United States
GEO:26.133592;-80.35194430000001
X-APPLE-STRUCTURED-LOCATION;VALUE=URI;X-ADDRESS=16001 W State Road 84\, Sun
 rise\, Florida\, 33326\, Broward County\, United States;X-APPLE-RADIUS=100
 ;X-TITLE=Markham Park:geo:26.133592,-80.35194430000001
END:VEVENT
BEGIN:VTIMEZONE
TZID:America/New_York
X-LIC-LOCATION:America/New_York
BEGIN:STANDARD
DTSTART:20181104T010000
TZOFFSETFROM:-0400
TZOFFSETTO:-0500
TZNAME:EST
END:STANDARD
END:VTIMEZONE
END:VCALENDAR