BEGIN:VCALENDAR
VERSION:2.0
PRODID:-//wp-events-plugin.com//7.2.3.1//EN
TZID:America/New_York
X-WR-TIMEZONE:America/New_York
BEGIN:VEVENT
UID:12697@goriverwalk.com
DTSTART;TZID=America/New_York:20211125T060000
DTEND;TZID=America/New_York:20211125T060000
DTSTAMP:20211028T171712Z
URL:https://www.goriverwalk.com/greater-fort-lauderdale-events/10th-annual
 -fort-lauderdale-turkey-trot
SUMMARY:10th Annual Fort Lauderdale Turkey Trot
DESCRIPTION:Together We Can Make A Difference
ATTACH;FMTTYPE=image/jpeg:https://www.goriverwalk.com/wp-content/uploads/2
 021/10/TurkeyTrot_logo_sq.png
CATEGORIES:Community,Fundraiser,Health
LOCATION:Las Olas Oceanside Park\, 3000 E. Las Olas Blvd.\, Fort Lauderdale
 \, FL\, 33316\, United States
X-APPLE-STRUCTURED-LOCATION;VALUE=URI;X-ADDRESS=3000 E. Las Olas Blvd.\, Fo
 rt Lauderdale\, FL\, 33316\, United States;X-APPLE-RADIUS=100;X-TITLE=Las 
 Olas Oceanside Park:geo:0,0
END:VEVENT
BEGIN:VTIMEZONE
TZID:America/New_York
X-LIC-LOCATION:America/New_York
BEGIN:STANDARD
DTSTART:20211107T010000
TZOFFSETFROM:-0400
TZOFFSETTO:-0500
TZNAME:EST
END:STANDARD
END:VTIMEZONE
END:VCALENDAR